BEGIN:VCALENDAR
VERSION:2.0
PRODID:-//Theatre 605 - ECPv6.15.17.1//NONSGML v1.0//EN
CALSCALE:GREGORIAN
METHOD:PUBLISH
X-ORIGINAL-URL:https://theatre605.org
X-WR-CALDESC:Events for Theatre 605
REFRESH-INTERVAL;VALUE=DURATION:PT1H
X-Robots-Tag:noindex
X-PUBLISHED-TTL:PT1H
BEGIN:VTIMEZONE
TZID:America/Denver
BEGIN:DAYLIGHT
TZOFFSETFROM:-0700
TZOFFSETTO:-0600
TZNAME:MDT
DTSTART:20250309T090000
END:DAYLIGHT
BEGIN:STANDARD
TZOFFSETFROM:-0600
TZOFFSETTO:-0700
TZNAME:MST
DTSTART:20251102T080000
END:STANDARD
BEGIN:DAYLIGHT
TZOFFSETFROM:-0700
TZOFFSETTO:-0600
TZNAME:MDT
DTSTART:20260308T090000
END:DAYLIGHT
BEGIN:STANDARD
TZOFFSETFROM:-0600
TZOFFSETTO:-0700
TZNAME:MST
DTSTART:20261101T080000
END:STANDARD
BEGIN:DAYLIGHT
TZOFFSETFROM:-0700
TZOFFSETTO:-0600
TZNAME:MDT
DTSTART:20270314T090000
END:DAYLIGHT
BEGIN:STANDARD
TZOFFSETFROM:-0600
TZOFFSETTO:-0700
TZNAME:MST
DTSTART:20271107T080000
END:STANDARD
END:VTIMEZONE
BEGIN:VEVENT
DTSTART;TZID=America/Denver:20260201T000000
DTEND;TZID=America/Denver:20260323T235900
DTSTAMP:20260424T081725
CREATED:20260304T233107Z
LAST-MODIFIED:20260324T143318Z
UID:1046-1769904000-1774310340@theatre605.org
SUMMARY:Now Hiring: Tour Actor/Directors
DESCRIPTION:
URL:https://theatre605.org/job-and-volunteer-opportunites/
ATTACH;FMTTYPE=image/jpeg:https://theatre605.org/wp-content/uploads/2026/01/T605-YLM-Tours-34-e1767910169243.jpg
END:VEVENT
BEGIN:VEVENT
DTSTART;TZID=America/Denver:20260216T000000
DTEND;TZID=America/Denver:20260531T235900
DTSTAMP:20260424T081725
CREATED:20260304T232323Z
LAST-MODIFIED:20260304T232323Z
UID:1045-1771200000-1780271940@theatre605.org
SUMMARY:Register for Theatre 605 Jr. Camps!
DESCRIPTION:
URL:https://theatre605.org/jr-camps/
ATTACH;FMTTYPE=image/jpeg:https://theatre605.org/wp-content/uploads/2026/01/jr-camps-registration.jpg
END:VEVENT
END:VCALENDAR